BEGIN:VCALENDAR
VERSION:2.0
PRODID:-//Vermont Law and Graduate School - ECPv6.15.20//NONSGML v1.0//EN
CALSCALE:GREGORIAN
METHOD:PUBLISH
X-WR-CALNAME:Vermont Law and Graduate School
X-ORIGINAL-URL:https://www.vermontlaw.edu
X-WR-CALDESC:Events for Vermont Law and Graduate School
REFRESH-INTERVAL;VALUE=DURATION:PT1H
X-Robots-Tag:noindex
X-PUBLISHED-TTL:PT1H
BEGIN:VTIMEZONE
TZID:America/New_York
BEGIN:DAYLIGHT
TZOFFSETFROM:-0500
TZOFFSETTO:-0400
TZNAME:EDT
DTSTART:20250309T070000
END:DAYLIGHT
BEGIN:STANDARD
TZOFFSETFROM:-0400
TZOFFSETTO:-0500
TZNAME:EST
DTSTART:20251102T060000
END:STANDARD
BEGIN:DAYLIGHT
TZOFFSETFROM:-0500
TZOFFSETTO:-0400
TZNAME:EDT
DTSTART:20260308T070000
END:DAYLIGHT
BEGIN:STANDARD
TZOFFSETFROM:-0400
TZOFFSETTO:-0500
TZNAME:EST
DTSTART:20261101T060000
END:STANDARD
BEGIN:DAYLIGHT
TZOFFSETFROM:-0500
TZOFFSETTO:-0400
TZNAME:EDT
DTSTART:20270314T070000
END:DAYLIGHT
BEGIN:STANDARD
TZOFFSETFROM:-0400
TZOFFSETTO:-0500
TZNAME:EST
DTSTART:20271107T060000
END:STANDARD
END:VTIMEZONE
BEGIN:VEVENT
DTSTART;TZID=America/New_York:20260107T180000
DTEND;TZID=America/New_York:20260107T190000
DTSTAMP:20260422T154949
CREATED:20251117T142237Z
LAST-MODIFIED:20251117T145613Z
UID:10002731-1767808800-1767812400@www.vermontlaw.edu
SUMMARY:Animal Protection Policy: Graduate Programs Edition
DESCRIPTION:The Office of Admissions invites you to join us for a session devoted to animal protection policy with Laura Ireland\, associate director of our Animal Law and Policy Institute. We’ll explore careers in animal advocacy and the programs we offer to get you there. \n\n\n\nThe session will also feature a mini-lecture and Q&A session with Laura Ireland. \n\n\n\nPlease register in advance by clicking here. \n\n\n\n*This event is geared toward prospective master’s and LLM students.
URL:https://www.vermontlaw.edu/event/animal-protection-policy-graduate-programs-edition
LOCATION:Virtual
CATEGORIES:Admissions Events Webinars,Livestream Calendar
ATTACH;FMTTYPE=image/jpeg:https://www.vermontlaw.edu/wp-content/uploads/2025/11/Farm-Santuary-Sheep-1200x630-1.jpg
END:VEVENT
BEGIN:VEVENT
DTSTART;TZID=America/New_York:20260114T180000
DTEND;TZID=America/New_York:20260114T190000
DTSTAMP:20260422T154949
CREATED:20260106T225700Z
LAST-MODIFIED:20260113T145106Z
UID:10002743-1768413600-1768417200@www.vermontlaw.edu
SUMMARY:Paying for Law School
DESCRIPTION:Join us for an evening webinar to learn how to navigate financing your law school investment. We will be joined by Katie Merrill\, Dean of Admissions\, and Melissa Erickson\, director of Financial Aid\, as well as Jennifer M. Schott\, Vice President of the AccessLex Center for Education and Financial Capability.  \n\n\n\nPlease register in advance by clicking here.  \n\n\n\n*This event is geared toward prospective JD students.
URL:https://www.vermontlaw.edu/event/paying-for-law-school
LOCATION:Virtual
CATEGORIES:Admissions Events Webinars,VLS Events
ATTACH;FMTTYPE=image/jpeg:https://www.vermontlaw.edu/wp-content/uploads/2025/09/Law-Books-Feat-1200-x-630.jpg
END:VEVENT
BEGIN:VEVENT
DTSTART;TZID=America/New_York:20260115T180000
DTEND;TZID=America/New_York:20260115T190000
DTSTAMP:20260422T154949
CREATED:20251117T142717Z
LAST-MODIFIED:20251117T142832Z
UID:10002732-1768500000-1768503600@www.vermontlaw.edu
SUMMARY:Get to Know Our Master of Public Policy Program
DESCRIPTION:The Office of Admissions invites you to join us for a session focused on public policy with Professor Stephen Pimpare\, Master of Public Policy (MPP) Program Director.  \n\n\n\nWe’ll explore the MPP core curriculum\, opportunities for experiential learning\, specialization areas\, and careers. \n\n\n\nPlease register in advance by clicking here. \n\n\n\n*This event is geared toward prospective master’s students.
URL:https://www.vermontlaw.edu/event/get-to-know-our-master-of-public-policy-program
LOCATION:Virtual
CATEGORIES:Admissions Events Webinars,Livestream Calendar
ATTACH;FMTTYPE=image/jpeg:https://www.vermontlaw.edu/wp-content/uploads/2025/11/Winter-Quad-Feat-1200x630-1.jpg
END:VEVENT
BEGIN:VEVENT
DTSTART;TZID=America/New_York:20260120T124500
DTEND;TZID=America/New_York:20260120T140000
DTSTAMP:20260422T154949
CREATED:20260116T151119Z
LAST-MODIFIED:20260116T151121Z
UID:10002744-1768913100-1768917600@www.vermontlaw.edu
SUMMARY:Dr. Martin Luther King Jr. Celebration
DESCRIPTION:Vermont Law and Graduate School presents a Dr. Martin Luther King Jr. Celebration: “Unarmed Truth\, Audacious Faith and the Presence of Justice.” \n\n\n\nCarolyn Finney\, PhD—scholar and artist-in-residence at Middlebury College—will be this year’s guest speaker. \n\n\n\nThe event will be held both in person and livestreamed virtually.
URL:https://www.vermontlaw.edu/event/dr-martin-luther-king-jr-celebration-2
LOCATION:Chase Community Center\, 164 Chelsea St.\, South Royalton\, VT\, 05068
CATEGORIES:Events in South Royalton,Livestream Calendar,VLS Events
ATTACH;FMTTYPE=image/jpeg:https://www.vermontlaw.edu/wp-content/uploads/2026/01/MLK2026_1200x630.jpg
END:VEVENT
BEGIN:VEVENT
DTSTART;TZID=America/New_York:20260121T180000
DTEND;TZID=America/New_York:20260121T190000
DTSTAMP:20260422T154949
CREATED:20251117T143224Z
LAST-MODIFIED:20251117T143226Z
UID:10002737-1769018400-1769022000@www.vermontlaw.edu
SUMMARY:Restorative Justice: Graduate Programs Edition
DESCRIPTION:The Office of Admissions invites you to a restorative justice focused session with Quixada Moore-Vissing\, interim director of the Center for Justice Reform and visiting assistant professor.  \n\n\n\nWe’ll explore the work of the Center for Justice Reform\, the Master of Arts in Restorative Justice (MARJ) and Graduate Certificate in Restorative Justice (GCRJ) curriculum\, opportunities to gain experience\, and careers. \n\n\n\nPlease register in advance by clicking here.
URL:https://www.vermontlaw.edu/event/restorative-justice-graduate-programs-edition
LOCATION:Virtual
CATEGORIES:Admissions Events Webinars,VLS Events
ATTACH;FMTTYPE=image/jpeg:https://www.vermontlaw.edu/wp-content/uploads/2025/11/CJR-Quixada-Feat-1200x630-1.jpg
END:VEVENT
BEGIN:VEVENT
DTSTART;TZID=America/New_York:20260123T080000
DTEND;TZID=America/New_York:20260123T100000
DTSTAMP:20260422T154949
CREATED:20251117T144021Z
LAST-MODIFIED:20251118T140613Z
UID:10002734-1769155200-1769162400@www.vermontlaw.edu
SUMMARY:How to Apply: A Session for International Applicants
DESCRIPTION:Join Aude-Mathilde Gallaud LLM’24\, our international admissions counselor\, for an info session focused on the application process for international applicants. We’ll cover all the elements of an application\, including evaluated transcripts\, English Language Proficiency requirements\, professional resume\, essay(s)\, character and fitness\, and letters of recommendation. \n\n\n\nThis session will get you acquainted with the application process and provide insight on how to put together a strong application as you prepare for the next step in pursuing an advanced degree at Vermont Law and Graduate School. \n\n\n\nPlease register in advance by clicking here. \n\n\n\n*This event is geared toward prospective international master’s and LLM students.
URL:https://www.vermontlaw.edu/event/how-to-apply-a-session-for-international-applicants
LOCATION:Virtual
CATEGORIES:Admissions Events Webinars,Livestream Calendar
ATTACH;FMTTYPE=image/jpeg:https://www.vermontlaw.edu/wp-content/uploads/2025/11/Debevoise-in-Snow-Feat-1200x630-1.jpg
END:VEVENT
BEGIN:VEVENT
DTSTART;TZID=America/New_York:20260128T180000
DTEND;TZID=America/New_York:20260128T190000
DTSTAMP:20260422T154949
CREATED:20260114T233945Z
LAST-MODIFIED:20260114T233947Z
UID:10002746-1769623200-1769626800@www.vermontlaw.edu
SUMMARY:Meet VLGS Online Hybrid JD Students
DESCRIPTION:Are you interested in pursuing your law degree\, but not sure a full-time\, residential program is right for you? Our Online Hybrid JD (OHJD) program offers the same rigorous legal education with added flexibility that allows students to manage their professional\, family\, and life obligations. \n\n\n\nTune in to meet some of our current OHJD students and learn how this degree fits into their busy schedules. \n\n\n\nPlease register in advance by clicking here. \n\n\n\n*This event is geared toward prospective JD students.
URL:https://www.vermontlaw.edu/event/meet-vlgs-online-hybrid-jd-students
LOCATION:Virtual
CATEGORIES:Admissions Events Webinars
ATTACH;FMTTYPE=image/jpeg:https://www.vermontlaw.edu/wp-content/uploads/2026/01/Student-on-Laptop-_-Feat-1200x630-1.jpg
END:VEVENT
END:VCALENDAR