BEGIN:VCALENDAR
VERSION:2.0
PRODID:-//Vermont Law and Graduate School - ECPv6.15.20//NONSGML v1.0//EN
CALSCALE:GREGORIAN
METHOD:PUBLISH
X-ORIGINAL-URL:https://www.vermontlaw.edu
X-WR-CALDESC:Events for Vermont Law and Graduate School
REFRESH-INTERVAL;VALUE=DURATION:PT1H
X-Robots-Tag:noindex
X-PUBLISHED-TTL:PT1H
BEGIN:VTIMEZONE
TZID:America/New_York
BEGIN:DAYLIGHT
TZOFFSETFROM:-0500
TZOFFSETTO:-0400
TZNAME:EDT
DTSTART:20250309T070000
END:DAYLIGHT
BEGIN:STANDARD
TZOFFSETFROM:-0400
TZOFFSETTO:-0500
TZNAME:EST
DTSTART:20251102T060000
END:STANDARD
BEGIN:DAYLIGHT
TZOFFSETFROM:-0500
TZOFFSETTO:-0400
TZNAME:EDT
DTSTART:20260308T070000
END:DAYLIGHT
BEGIN:STANDARD
TZOFFSETFROM:-0400
TZOFFSETTO:-0500
TZNAME:EST
DTSTART:20261101T060000
END:STANDARD
BEGIN:DAYLIGHT
TZOFFSETFROM:-0500
TZOFFSETTO:-0400
TZNAME:EDT
DTSTART:20270314T070000
END:DAYLIGHT
BEGIN:STANDARD
TZOFFSETFROM:-0400
TZOFFSETTO:-0500
TZNAME:EST
DTSTART:20271107T060000
END:STANDARD
END:VTIMEZONE
BEGIN:VEVENT
DTSTART;TZID=America/New_York:20260414T120000
DTEND;TZID=America/New_York:20260414T130000
DTSTAMP:20260422T114557
CREATED:20260331T152322Z
LAST-MODIFIED:20260408T114605Z
UID:10002797-1776168000-1776171600@www.vermontlaw.edu
SUMMARY:CAFS Lunch and Learn: Urban Agriculture and Local Policy
DESCRIPTION:Join us for a Center for Agriculture and Food Systems (CAFS) Lunch and Learn highlighting our Urban Agriculture and Innovative Production Policy Project. Visiting Assistant Professor Liz Turner will share insights from “Urban Agriculture and Innovative Production: A Guide to Local Policy\,” a CAFS resource developed through her research as a CAFS fellow. She will be joined by students to discuss what’s next for the project and how it has shaped her VLGS course\, “Law and Policy of Urban Agriculture.” \n\n\n\nLunch will be provided for in-person attendees. To join virtually via Microsoft Teams\, please click here.
URL:https://www.vermontlaw.edu/event/cafs-lunch-and-learn-urban-agriculture-and-local-policy
LOCATION:Yates Common Room at Vermont Law and Graduate School\, 164 Chelsea Street\, South Royalton\, Vermont\, 05068\, United States
CATEGORIES:Academic Spring – Online Learning,Academic Spring – Residential,Events in South Royalton,Livestream Calendar
ATTACH;FMTTYPE=image/jpeg:https://www.vermontlaw.edu/wp-content/uploads/2026/03/Urban-Agriculture-Feat-1200x630-1.jpg
END:VEVENT
BEGIN:VEVENT
DTSTART;TZID=America/New_York:20260414T160000
DTEND;TZID=America/New_York:20260414T200000
DTSTAMP:20260422T114557
CREATED:20260417T194007Z
LAST-MODIFIED:20260417T194010Z
UID:10002776-1776182400-1776196800@www.vermontlaw.edu
SUMMARY:VITA Program: Free Tax Preparation
DESCRIPTION:Vermont Law and Graduate School is once again hosting a Volunteer Income Tax Assistance (VITA) site. \n\n\n\nVolunteers will prepare and electronically file federal and state tax returns\, free of charge\, for qualifying low-to-moderate income and elderly taxpayers whose family income in 2025 was $69\,000 or less. \n\n\n\nFilings will be done by appointment only and can be scheduled by calling 802-831-1363. Participants will be asked to show proof of identity per IRS regulations. A self-service filing station—complete with a laptop and necessary software—will also be available by appointment. \n\n\n\nNote: IRS regulations require verification of all taxpayers’ identities. Those participating in these tax preparation services (and their spouse\, if filing a joint return) will be asked to show proof of identity (e.g.\, driver’s license\, employer ID\, school ID\, birth certificate\, military ID\, or passport). It is also necessary to show a social security card\, an ITIN card or letter\, or an SSA letter for each individual who will be listed on the return. Taxpayers who cannot substantiate their identity will be asked to seek professional tax assistance elsewhere.
URL:https://www.vermontlaw.edu/event/vita-program-free-tax-preparation-29
LOCATION:By Appointment Only
CATEGORIES:Events in South Royalton,VLS Events
ATTACH;FMTTYPE=image/jpeg:https://www.vermontlaw.edu/wp-content/uploads/2025/09/VLGS-Logo-1200x630-1.jpg
END:VEVENT
END:VCALENDAR