BEGIN:VCALENDAR
VERSION:2.0
PRODID:-//Vermont Law and Graduate School - ECPv6.15.20//NONSGML v1.0//EN
CALSCALE:GREGORIAN
METHOD:PUBLISH
X-ORIGINAL-URL:https://www.vermontlaw.edu
X-WR-CALDESC:Events for Vermont Law and Graduate School
REFRESH-INTERVAL;VALUE=DURATION:PT1H
X-Robots-Tag:noindex
X-PUBLISHED-TTL:PT1H
BEGIN:VTIMEZONE
TZID:America/New_York
BEGIN:DAYLIGHT
TZOFFSETFROM:-0500
TZOFFSETTO:-0400
TZNAME:EDT
DTSTART:20250309T070000
END:DAYLIGHT
BEGIN:STANDARD
TZOFFSETFROM:-0400
TZOFFSETTO:-0500
TZNAME:EST
DTSTART:20251102T060000
END:STANDARD
BEGIN:DAYLIGHT
TZOFFSETFROM:-0500
TZOFFSETTO:-0400
TZNAME:EDT
DTSTART:20260308T070000
END:DAYLIGHT
BEGIN:STANDARD
TZOFFSETFROM:-0400
TZOFFSETTO:-0500
TZNAME:EST
DTSTART:20261101T060000
END:STANDARD
BEGIN:DAYLIGHT
TZOFFSETFROM:-0500
TZOFFSETTO:-0400
TZNAME:EDT
DTSTART:20270314T070000
END:DAYLIGHT
BEGIN:STANDARD
TZOFFSETFROM:-0400
TZOFFSETTO:-0500
TZNAME:EST
DTSTART:20271107T060000
END:STANDARD
END:VTIMEZONE
BEGIN:VEVENT
DTSTART;TZID=America/New_York:20260316T120000
DTEND;TZID=America/New_York:20260316T130000
DTSTAMP:20260422T135816
CREATED:20260304T135345Z
LAST-MODIFIED:20260304T135450Z
UID:10002782-1773662400-1773666000@www.vermontlaw.edu
SUMMARY:Seal and Heal: An Update on Vermont’s New Expungement and Sealing Laws
DESCRIPTION:Effective July 1\, 2025\, Act 60 updated Vermont laws pertaining to expunging and sealing past convictions in Vermont Courts. This law shifts the focus from expungement\, which fully erases any state-maintained record of the conviction\, to sealing\, which removes the conviction from public record\, but maintains a non-public record for use in future prosecutions\, if necessary. This change poses both advantages and disadvantages for Vermonters with criminal records seeking a fresh start. \n\n\n\nJoin VLGS’s Veterans Legal Assistance Project for this educational webinar discussing the processes and procedures for seeking expungement and sealing of Vermont convictions\, with a special focus on Act 60 and the changes it has caused to the legal landscape. \n\n\n\n\nRegister
URL:https://www.vermontlaw.edu/event/seal-and-heal-an-update-on-vermonts-new-expungement-and-sealing-laws
LOCATION:Virtual
CATEGORIES:VLS Events
ATTACH;FMTTYPE=image/jpeg:https://www.vermontlaw.edu/wp-content/uploads/2026/03/3.16.26_VLAP-event_1200x630.jpg
END:VEVENT
END:VCALENDAR