BEGIN:VCALENDAR
VERSION:2.0
PRODID:-//Vermont Law and Graduate School - ECPv6.15.20//NONSGML v1.0//EN
CALSCALE:GREGORIAN
METHOD:PUBLISH
X-ORIGINAL-URL:https://www.vermontlaw.edu
X-WR-CALDESC:Events for Vermont Law and Graduate School
REFRESH-INTERVAL;VALUE=DURATION:PT1H
X-Robots-Tag:noindex
X-PUBLISHED-TTL:PT1H
BEGIN:VTIMEZONE
TZID:America/New_York
BEGIN:DAYLIGHT
TZOFFSETFROM:-0500
TZOFFSETTO:-0400
TZNAME:EDT
DTSTART:20250309T070000
END:DAYLIGHT
BEGIN:STANDARD
TZOFFSETFROM:-0400
TZOFFSETTO:-0500
TZNAME:EST
DTSTART:20251102T060000
END:STANDARD
BEGIN:DAYLIGHT
TZOFFSETFROM:-0500
TZOFFSETTO:-0400
TZNAME:EDT
DTSTART:20260308T070000
END:DAYLIGHT
BEGIN:STANDARD
TZOFFSETFROM:-0400
TZOFFSETTO:-0500
TZNAME:EST
DTSTART:20261101T060000
END:STANDARD
BEGIN:DAYLIGHT
TZOFFSETFROM:-0500
TZOFFSETTO:-0400
TZNAME:EDT
DTSTART:20270314T070000
END:DAYLIGHT
BEGIN:STANDARD
TZOFFSETFROM:-0400
TZOFFSETTO:-0500
TZNAME:EST
DTSTART:20271107T060000
END:STANDARD
END:VTIMEZONE
BEGIN:VEVENT
DTSTART;TZID=America/New_York:20260312T090000
DTEND;TZID=America/New_York:20260312T151500
DTSTAMP:20260422T135814
CREATED:20260216T194620Z
LAST-MODIFIED:20260224T225349Z
UID:10002779-1773306000-1773328500@www.vermontlaw.edu
SUMMARY:Albany Regional Energy Symposium
DESCRIPTION:Vermont Law and Graduate School invites alumni\, students\, and members of the broader energy and policy community to join us for the Albany Regional Energy Symposium. This in-person program will explore the evolving challenges and opportunities shaping energy policy and decision-making\, and will feature expert panels and a distinguished lunchtime keynote address. Lunch will be provided for registered attendees.  \n\n\n\nSchedule\n\n\n\n*All times are listed below in ET. \n\n\n\n9 a.m. | Networking Breakfast \n\n\n\n9:30 a.m. | Opening Remarks  \n\n\n\n\nMark James LLM’16\, Interim Director\, Institute for Energy and the Environment\n\n\n\n\n9:40 a.m. | Panel 1: How States Can Advance Offshore Wind \n\n\n\n\nAlicia Gené Artessa JD/MELP’16\, Director\, New York Offshore Wind Alliance\n\n\n\nBarbara Beblowski MELP’22\, Coalition Manager\, New England for Offshore Wind\n\n\n\nGreg Lampman\, Senior Director\, Offshore Wind\, NYSERDA\n\n\n\nChristopher Casey JD/MELP’13\, Utility Regulatory Director\, New York and Senior Attorney\, Natural Resources Defense Council\n\n\n\n\n11 a.m. | Networking Break \n\n\n\n11:10 a.m. | Panel 2: Affordable House\, Public Health\, and Climate Change \n\n\n\nModerated by Jenny Carter JD’87/MSL’88\, Professor and Senior Attorney\, Institute for Energy and the Environment \n\n\n\n\nLisa Hart\, Public Health Analyst/Grants Manager\, Syracuse Housing Authority\n\n\n\nChris Coll\, Project Director\, New York State Department of Public Service\n\n\n\nPeter Walke\, Managing Director\, Efficiency Vermont\n\n\n\n\n12:30 p.m. | Lunch and Networking Break  \n\n\n\n12:50 p.m. | Lunch Keynote \n\n\n\nAlex Summe\, Director of Electrification and Customer Solutions\, Electric Power Research Institute \n\n\n\n1:40 p.m. | Networking Break \n\n\n\n1:50 p.m. | Panel 3: Energy Decision-Making in Uncertain Times \n\n\n\nModerated by Jaclyn Brilling JD’79\, Former Secretary\, New York State Public Service Commission \n\n\n\n\nJim Muscato\, Partner\, Young/Sommer LLC\n\n\n\nMeave Tooher\, General Counsel\, New York State Office of Renewable Energy Siting and Electric Transmission\n\n\n\nLaurie Wheelock JD’10/MELP’07\, Executive Director\, Public Utility Law Project\n\n\n\n\n3:10 p.m. | Concluding Remarks  \n\n\n\n \n\n\n\nRegister in advance by clicking here.  \n\n\n\nContinuing legal education (CLE) credit is available through the New York State Bar Association (NYSBA). After registering for the event\, you will receive instructions on how to complete your CLE registration through NYSBA. \n\n\n\nThanks to the generosity of our alumni and partners\, there is no cost to attend this event.
URL:https://www.vermontlaw.edu/event/albany-regional-energy-symposium
LOCATION:St. Anne’s Institute\, 160 N. Main Avenue\, Albany\, New York\, 12206
CATEGORIES:VLS Events
ATTACH;FMTTYPE=image/jpeg:https://www.vermontlaw.edu/wp-content/uploads/2025/06/Solar-Panels-1200x630-1.jpg
END:VEVENT
BEGIN:VEVENT
DTSTART;TZID=America/New_York:20260312T160000
DTEND;TZID=America/New_York:20260312T200000
DTSTAMP:20260422T135814
CREATED:20260304T135741Z
LAST-MODIFIED:20260304T135744Z
UID:10002763-1773331200-1773345600@www.vermontlaw.edu
SUMMARY:VITA Program: Free Tax Preparation
DESCRIPTION:Vermont Law and Graduate School is once again hosting a Volunteer Income Tax Assistance (VITA) site. \n\n\n\nVolunteers will prepare and electronically file federal and state tax returns\, free of charge\, for qualifying low-to-moderate income and elderly taxpayers whose family income in 2025 was $69\,000 or less. \n\n\n\nFilings will be done by appointment only and can be scheduled by calling 802-831-1363. Participants will be asked to show proof of identity per IRS regulations. A self-service filing station—complete with a laptop and necessary software—will also be available by appointment. \n\n\n\nNote: IRS regulations require verification of all taxpayers’ identities. Those participating in these tax preparation services (and their spouse\, if filing a joint return) will be asked to show proof of identity (e.g.\, driver’s license\, employer ID\, school ID\, birth certificate\, military ID\, or passport). It is also necessary to show a social security card\, an ITIN card or letter\, or an SSA letter for each individual who will be listed on the return. Taxpayers who cannot substantiate their identity will be asked to seek professional tax assistance elsewhere.
URL:https://www.vermontlaw.edu/event/vita-program-free-tax-preparation-15
LOCATION:By Appointment Only
CATEGORIES:Events in South Royalton,VLS Events
ATTACH;FMTTYPE=image/jpeg:https://www.vermontlaw.edu/wp-content/uploads/2025/09/VLGS-Logo-1200x630-1.jpg
END:VEVENT
END:VCALENDAR