BEGIN:VCALENDAR
VERSION:2.0
PRODID:-//Vermont Law and Graduate School - ECPv6.15.20//NONSGML v1.0//EN
CALSCALE:GREGORIAN
METHOD:PUBLISH
X-ORIGINAL-URL:https://www.vermontlaw.edu
X-WR-CALDESC:Events for Vermont Law and Graduate School
REFRESH-INTERVAL;VALUE=DURATION:PT1H
X-Robots-Tag:noindex
X-PUBLISHED-TTL:PT1H
BEGIN:VTIMEZONE
TZID:America/New_York
BEGIN:DAYLIGHT
TZOFFSETFROM:-0500
TZOFFSETTO:-0400
TZNAME:EDT
DTSTART:20250309T070000
END:DAYLIGHT
BEGIN:STANDARD
TZOFFSETFROM:-0400
TZOFFSETTO:-0500
TZNAME:EST
DTSTART:20251102T060000
END:STANDARD
BEGIN:DAYLIGHT
TZOFFSETFROM:-0500
TZOFFSETTO:-0400
TZNAME:EDT
DTSTART:20260308T070000
END:DAYLIGHT
BEGIN:STANDARD
TZOFFSETFROM:-0400
TZOFFSETTO:-0500
TZNAME:EST
DTSTART:20261101T060000
END:STANDARD
BEGIN:DAYLIGHT
TZOFFSETFROM:-0500
TZOFFSETTO:-0400
TZNAME:EDT
DTSTART:20270314T070000
END:DAYLIGHT
BEGIN:STANDARD
TZOFFSETFROM:-0400
TZOFFSETTO:-0500
TZNAME:EST
DTSTART:20271107T060000
END:STANDARD
END:VTIMEZONE
BEGIN:VEVENT
DTSTART;TZID=America/New_York:20260211T180000
DTEND;TZID=America/New_York:20260211T190000
DTSTAMP:20260422T154823
CREATED:20260204T221658Z
LAST-MODIFIED:20260205T201923Z
UID:10002777-1770832800-1770836400@www.vermontlaw.edu
SUMMARY:Food & Agriculture and Animal Law JD Overview
DESCRIPTION:Join Laurie Beyranevand JD’03\, director of the Center for Agriculture and Food Systems\, and Delcianna Winders\, director of the Animal Law and Policy Institute\, to learn more about these specializations and the exciting opportunities available at VLGS. \n\n\n\nPlease register in advance by clicking here. \n\n\n\n*Geared toward prospective JD students. 
URL:https://www.vermontlaw.edu/event/food-agriculture-and-animal-law-jd-overview
LOCATION:Virtual
CATEGORIES:Admissions Events Webinars,VLS Events
ATTACH;FMTTYPE=image/jpeg:https://www.vermontlaw.edu/wp-content/uploads/2026/02/Plants-in-Field-_-Feat-_-1200x630-1.jpg
END:VEVENT
END:VCALENDAR