BEGIN:VCALENDAR
VERSION:2.0
PRODID:-//Vermont Law and Graduate School - ECPv6.15.20//NONSGML v1.0//EN
CALSCALE:GREGORIAN
METHOD:PUBLISH
X-ORIGINAL-URL:https://www.vermontlaw.edu
X-WR-CALDESC:Events for Vermont Law and Graduate School
REFRESH-INTERVAL;VALUE=DURATION:PT1H
X-Robots-Tag:noindex
X-PUBLISHED-TTL:PT1H
BEGIN:VTIMEZONE
TZID:America/New_York
BEGIN:DAYLIGHT
TZOFFSETFROM:-0500
TZOFFSETTO:-0400
TZNAME:EDT
DTSTART:20250309T070000
END:DAYLIGHT
BEGIN:STANDARD
TZOFFSETFROM:-0400
TZOFFSETTO:-0500
TZNAME:EST
DTSTART:20251102T060000
END:STANDARD
BEGIN:DAYLIGHT
TZOFFSETFROM:-0500
TZOFFSETTO:-0400
TZNAME:EDT
DTSTART:20260308T070000
END:DAYLIGHT
BEGIN:STANDARD
TZOFFSETFROM:-0400
TZOFFSETTO:-0500
TZNAME:EST
DTSTART:20261101T060000
END:STANDARD
BEGIN:DAYLIGHT
TZOFFSETFROM:-0500
TZOFFSETTO:-0400
TZNAME:EDT
DTSTART:20270314T070000
END:DAYLIGHT
BEGIN:STANDARD
TZOFFSETFROM:-0400
TZOFFSETTO:-0500
TZNAME:EST
DTSTART:20271107T060000
END:STANDARD
END:VTIMEZONE
BEGIN:VEVENT
DTSTART;TZID=America/New_York:20260209T120000
DTEND;TZID=America/New_York:20260209T130000
DTSTAMP:20260422T173047
CREATED:20260121T214608Z
LAST-MODIFIED:20260131T171946Z
UID:10002745-1770638400-1770642000@www.vermontlaw.edu
SUMMARY:Cracking the Code: Understanding SSI and SSDI Processes
DESCRIPTION:Join us for a clear\, practical\, and accessible one‑hour educational webinar designed specifically for non‑attorneys who want to better understand the SSI and SSDI systems. Hosted by VLGS’s Veterans Legal Assistance Project\, this session will break down the application and appeals process step‑by‑step\, demystifying eligibility rules\, required documentation\, common pitfalls\, and what to expect at each stage.  \n\n\n\nWhether you’re a service provider\, advocate\, or simply looking to support someone navigating disability benefits\, you’ll leave with a stronger grasp of how these systems work. This is a straightforward\, jargon‑free introduction that turns complex processes into something manageable and actionable.
URL:https://www.vermontlaw.edu/event/cracking-the-code-understanding-ssi-and-ssdi-processes
LOCATION:Virtual
CATEGORIES:VLS Events
ATTACH;FMTTYPE=image/jpeg:https://www.vermontlaw.edu/wp-content/uploads/2026/01/1.26_VLAP-event_SOCIAL-FB_1.20.26_v1.jpg
END:VEVENT
END:VCALENDAR