BEGIN:VCALENDAR
VERSION:2.0
PRODID:-//Vermont Law and Graduate School - ECPv6.15.20//NONSGML v1.0//EN
CALSCALE:GREGORIAN
METHOD:PUBLISH
X-ORIGINAL-URL:https://www.vermontlaw.edu
X-WR-CALDESC:Events for Vermont Law and Graduate School
REFRESH-INTERVAL;VALUE=DURATION:PT1H
X-Robots-Tag:noindex
X-PUBLISHED-TTL:PT1H
BEGIN:VTIMEZONE
TZID:America/New_York
BEGIN:DAYLIGHT
TZOFFSETFROM:-0500
TZOFFSETTO:-0400
TZNAME:EDT
DTSTART:20250309T070000
END:DAYLIGHT
BEGIN:STANDARD
TZOFFSETFROM:-0400
TZOFFSETTO:-0500
TZNAME:EST
DTSTART:20251102T060000
END:STANDARD
BEGIN:DAYLIGHT
TZOFFSETFROM:-0500
TZOFFSETTO:-0400
TZNAME:EDT
DTSTART:20260308T070000
END:DAYLIGHT
BEGIN:STANDARD
TZOFFSETFROM:-0400
TZOFFSETTO:-0500
TZNAME:EST
DTSTART:20261101T060000
END:STANDARD
BEGIN:DAYLIGHT
TZOFFSETFROM:-0500
TZOFFSETTO:-0400
TZNAME:EDT
DTSTART:20270314T070000
END:DAYLIGHT
BEGIN:STANDARD
TZOFFSETFROM:-0400
TZOFFSETTO:-0500
TZNAME:EST
DTSTART:20271107T060000
END:STANDARD
END:VTIMEZONE
BEGIN:VEVENT
DTSTART;TZID=America/New_York:20260121T180000
DTEND;TZID=America/New_York:20260121T190000
DTSTAMP:20260422T172953
CREATED:20251117T143224Z
LAST-MODIFIED:20251117T143226Z
UID:10002737-1769018400-1769022000@www.vermontlaw.edu
SUMMARY:Restorative Justice: Graduate Programs Edition
DESCRIPTION:The Office of Admissions invites you to a restorative justice focused session with Quixada Moore-Vissing\, interim director of the Center for Justice Reform and visiting assistant professor.  \n\n\n\nWe’ll explore the work of the Center for Justice Reform\, the Master of Arts in Restorative Justice (MARJ) and Graduate Certificate in Restorative Justice (GCRJ) curriculum\, opportunities to gain experience\, and careers. \n\n\n\nPlease register in advance by clicking here.
URL:https://www.vermontlaw.edu/event/restorative-justice-graduate-programs-edition
LOCATION:Virtual
CATEGORIES:Admissions Events Webinars,VLS Events
ATTACH;FMTTYPE=image/jpeg:https://www.vermontlaw.edu/wp-content/uploads/2025/11/CJR-Quixada-Feat-1200x630-1.jpg
END:VEVENT
END:VCALENDAR