BEGIN:VCALENDAR
VERSION:2.0
PRODID:-//Vermont Law and Graduate School - ECPv6.15.20//NONSGML v1.0//EN
CALSCALE:GREGORIAN
METHOD:PUBLISH
X-WR-CALNAME:Vermont Law and Graduate School
X-ORIGINAL-URL:https://www.vermontlaw.edu
X-WR-CALDESC:Events for Vermont Law and Graduate School
REFRESH-INTERVAL;VALUE=DURATION:PT1H
X-Robots-Tag:noindex
X-PUBLISHED-TTL:PT1H
BEGIN:VTIMEZONE
TZID:America/New_York
BEGIN:DAYLIGHT
TZOFFSETFROM:-0500
TZOFFSETTO:-0400
TZNAME:EDT
DTSTART:20240310T070000
END:DAYLIGHT
BEGIN:STANDARD
TZOFFSETFROM:-0400
TZOFFSETTO:-0500
TZNAME:EST
DTSTART:20241103T060000
END:STANDARD
BEGIN:DAYLIGHT
TZOFFSETFROM:-0500
TZOFFSETTO:-0400
TZNAME:EDT
DTSTART:20250309T070000
END:DAYLIGHT
BEGIN:STANDARD
TZOFFSETFROM:-0400
TZOFFSETTO:-0500
TZNAME:EST
DTSTART:20251102T060000
END:STANDARD
BEGIN:DAYLIGHT
TZOFFSETFROM:-0500
TZOFFSETTO:-0400
TZNAME:EDT
DTSTART:20260308T070000
END:DAYLIGHT
BEGIN:STANDARD
TZOFFSETFROM:-0400
TZOFFSETTO:-0500
TZNAME:EST
DTSTART:20261101T060000
END:STANDARD
END:VTIMEZONE
BEGIN:VEVENT
DTSTART;TZID=America/New_York:20251204T120000
DTEND;TZID=America/New_York:20251204T133000
DTSTAMP:20260422T210738
CREATED:20251103T191212Z
LAST-MODIFIED:20251126T112826Z
UID:10002727-1764849600-1764855000@www.vermontlaw.edu
SUMMARY:Healing After an Economic Downturn
DESCRIPTION:Communities can hit hard times economically due to various factors\, including losing industry and employers. When communities lose industry\, they can also lose their identity\, and as a consequence\, the story of “who we were” can linger without a clear sense of “who we are today.” How have communities that have experienced economic downturns recovered and successfully gained their footing to create a brighter future? How can we help communities process economic trauma\, create collaborative atmospheres\, and identify action steps to move forward? What role do restorative practices play in assisting communities to heal and grow together? \n\n\n\nHosted by the Center for Justice Reform at Vermont Law and Graduate School\, this is event is part of an ongoing online series\, “Healing Communities to Heal the World.” \n\n\n\nEsteemed guest speakers include:  \n\n\n\nKennedy Smith\, Senior Researcher at the Institute for Self-RelianceSteve Sanders\, Director of Mill Site Redevelopment at One NorthMike Smith\, Executive Director of the Outdoor Sport Institute \n\n\n\n\n\nPlease register in advance by clicking here.
URL:https://www.vermontlaw.edu/event/healing-after-an-economic-downturn
LOCATION:Virtual
CATEGORIES:VLS Events
ATTACH;FMTTYPE=image/jpeg:https://www.vermontlaw.edu/wp-content/uploads/2025/11/12.4_RJ-Healing-Series_SOCIAL-FB_10.27.25_v1.jpg
END:VEVENT
END:VCALENDAR