BEGIN:VCALENDAR
VERSION:2.0
PRODID:-//Vermont Law and Graduate School - ECPv6.15.20//NONSGML v1.0//EN
CALSCALE:GREGORIAN
METHOD:PUBLISH
X-ORIGINAL-URL:https://www.vermontlaw.edu
X-WR-CALDESC:Events for Vermont Law and Graduate School
REFRESH-INTERVAL;VALUE=DURATION:PT1H
X-Robots-Tag:noindex
X-PUBLISHED-TTL:PT1H
BEGIN:VTIMEZONE
TZID:America/New_York
BEGIN:DAYLIGHT
TZOFFSETFROM:-0500
TZOFFSETTO:-0400
TZNAME:EDT
DTSTART:20240310T070000
END:DAYLIGHT
BEGIN:STANDARD
TZOFFSETFROM:-0400
TZOFFSETTO:-0500
TZNAME:EST
DTSTART:20241103T060000
END:STANDARD
BEGIN:DAYLIGHT
TZOFFSETFROM:-0500
TZOFFSETTO:-0400
TZNAME:EDT
DTSTART:20250309T070000
END:DAYLIGHT
BEGIN:STANDARD
TZOFFSETFROM:-0400
TZOFFSETTO:-0500
TZNAME:EST
DTSTART:20251102T060000
END:STANDARD
BEGIN:DAYLIGHT
TZOFFSETFROM:-0500
TZOFFSETTO:-0400
TZNAME:EDT
DTSTART:20260308T070000
END:DAYLIGHT
BEGIN:STANDARD
TZOFFSETFROM:-0400
TZOFFSETTO:-0500
TZNAME:EST
DTSTART:20261101T060000
END:STANDARD
END:VTIMEZONE
BEGIN:VEVENT
DTSTART;TZID=America/New_York:20251127T113000
DTEND;TZID=America/New_York:20251127T133000
DTSTAMP:20260422T225551
CREATED:20251107T132322Z
LAST-MODIFIED:20251110T143507Z
UID:10002714-1764243000-1764250200@www.vermontlaw.edu
SUMMARY:2025 Community Thanksgiving Dinner
DESCRIPTION:Join us to celebrate Thanksgiving with our community! This free dinner is sponsored by the South Royalton/Royalton community\, businesses\, churches\, Vermont Law and Graduate School (VLGS)\, the Royalton and Area Lions Club\, and residents of surrounding towns. \n\n\n\n \n\n\n\nIf you would like to attend or have a meal delivered\, please contact:  \n\n\n\nCourtney Potter (VLGS) at communitythanksgiving@vermontlaw.edu or 802-831-1238; or Carol Greene (Royalton and Area Lions Club) at 802-291-3750 \n\n\n\nFood donations (chocolate\, apple\, and pumpkin pies; other desserts) will be accepted from November 24-26 in Chase Community Center on the VLGS campus. Monetary donations are gratefully accepted and can be dropped off at VLGS with Courtney Potter (Debevoise Hall\, 3rd Floor). Please make checks payable to Vermont Law and Graduate School. \n\n\n\n\n\n \n\n\n\n\nLearn More
URL:https://www.vermontlaw.edu/event/2025-community-thanksgiving-dinner
LOCATION:Chase Community Center\, 164 Chelsea St.\, South Royalton\, VT\, 05068
CATEGORIES:Events in South Royalton,VLS Events
ATTACH;FMTTYPE=image/jpeg:https://www.vermontlaw.edu/wp-content/uploads/2024/10/Debevoise-Autumn-1200x630-1.jpg
END:VEVENT
END:VCALENDAR