BEGIN:VCALENDAR
VERSION:2.0
PRODID:-//Vermont Law and Graduate School - ECPv6.15.20//NONSGML v1.0//EN
CALSCALE:GREGORIAN
METHOD:PUBLISH
X-WR-CALNAME:Vermont Law and Graduate School
X-ORIGINAL-URL:https://www.vermontlaw.edu
X-WR-CALDESC:Events for Vermont Law and Graduate School
REFRESH-INTERVAL;VALUE=DURATION:PT1H
X-Robots-Tag:noindex
X-PUBLISHED-TTL:PT1H
BEGIN:VTIMEZONE
TZID:America/New_York
BEGIN:DAYLIGHT
TZOFFSETFROM:-0500
TZOFFSETTO:-0400
TZNAME:EDT
DTSTART:20240310T070000
END:DAYLIGHT
BEGIN:STANDARD
TZOFFSETFROM:-0400
TZOFFSETTO:-0500
TZNAME:EST
DTSTART:20241103T060000
END:STANDARD
BEGIN:DAYLIGHT
TZOFFSETFROM:-0500
TZOFFSETTO:-0400
TZNAME:EDT
DTSTART:20250309T070000
END:DAYLIGHT
BEGIN:STANDARD
TZOFFSETFROM:-0400
TZOFFSETTO:-0500
TZNAME:EST
DTSTART:20251102T060000
END:STANDARD
BEGIN:DAYLIGHT
TZOFFSETFROM:-0500
TZOFFSETTO:-0400
TZNAME:EDT
DTSTART:20260308T070000
END:DAYLIGHT
BEGIN:STANDARD
TZOFFSETFROM:-0400
TZOFFSETTO:-0500
TZNAME:EST
DTSTART:20261101T060000
END:STANDARD
END:VTIMEZONE
BEGIN:VEVENT
DTSTART;TZID=America/New_York:20251025T140000
DTEND;TZID=America/New_York:20251025T183000
DTSTAMP:20260423T003322
CREATED:20250930T145600Z
LAST-MODIFIED:20251025T160046Z
UID:10002715-1761400800-1761417000@www.vermontlaw.edu
SUMMARY:Community Day and Harvest Fest
DESCRIPTION:Celebrate community with an afternoon of music\, activities\, campus tours\, thoughtful conversation\, and a shared meal. We’re excited to bring together neighbors\, families\, local businesses\, and the Vermont Law and Graduate School community for this special day.  \n\n\n\n\n\n\n\n \n\n\n\n\n\n\n\n\n\n\n\nSCHEDULE:2 to 4 p.m. | Harvest Fest (Debevoise Back Lawn) Presented by the Student Bar Association\, featuring fall treats and family-friendly activities.  \n\n\n\n2 to 3 p.m. | Campus Tours (Chase Breezeway)  \n\n\n\n2 to 4 p.m. | Upper Valley Business Fair (Chase Breezeway)  \n\n\n\n3 to 4 p.m. | Dean’s Address: Reflecting on VLGS’s 50th Anniversary (Chase Community Center) Presentation with Dean of the Law School Beth McCormack  \n\n\n\n4 to 5 p.m. | Introduction to Generative Artificial Intelligence (Chase Community Center and Virtual) Presentation with Professor Jennifer Sekula JD/MSEL’98 (qualifies for 1 Continuing Legal Education credit) Tune in virtually by clicking here. \n\n\n\n5 to 6:30 p.m. | Town Hall\, Spaghetti Dinner\, and Community Champion Award Presentation (Chase Community Center)
URL:https://www.vermontlaw.edu/event/community-day-and-harvest-fest
LOCATION:Vermont Law and Graduate School\, 164 Chelsea St.\, South Royalton\, VT\, 05068
ATTACH;FMTTYPE=image/jpeg:https://www.vermontlaw.edu/wp-content/uploads/2025/09/Fall-Campus-Feat-1200x630-1.jpg
END:VEVENT
END:VCALENDAR