BEGIN:VCALENDAR
VERSION:2.0
PRODID:-//Vermont Law and Graduate School - ECPv6.15.20//NONSGML v1.0//EN
CALSCALE:GREGORIAN
METHOD:PUBLISH
X-ORIGINAL-URL:https://www.vermontlaw.edu
X-WR-CALDESC:Events for Vermont Law and Graduate School
REFRESH-INTERVAL;VALUE=DURATION:PT1H
X-Robots-Tag:noindex
X-PUBLISHED-TTL:PT1H
BEGIN:VTIMEZONE
TZID:America/New_York
BEGIN:DAYLIGHT
TZOFFSETFROM:-0500
TZOFFSETTO:-0400
TZNAME:EDT
DTSTART:20240310T070000
END:DAYLIGHT
BEGIN:STANDARD
TZOFFSETFROM:-0400
TZOFFSETTO:-0500
TZNAME:EST
DTSTART:20241103T060000
END:STANDARD
BEGIN:DAYLIGHT
TZOFFSETFROM:-0500
TZOFFSETTO:-0400
TZNAME:EDT
DTSTART:20250309T070000
END:DAYLIGHT
BEGIN:STANDARD
TZOFFSETFROM:-0400
TZOFFSETTO:-0500
TZNAME:EST
DTSTART:20251102T060000
END:STANDARD
BEGIN:DAYLIGHT
TZOFFSETFROM:-0500
TZOFFSETTO:-0400
TZNAME:EDT
DTSTART:20260308T070000
END:DAYLIGHT
BEGIN:STANDARD
TZOFFSETFROM:-0400
TZOFFSETTO:-0500
TZNAME:EST
DTSTART:20261101T060000
END:STANDARD
END:VTIMEZONE
BEGIN:VEVENT
DTSTART;TZID=America/New_York:20251016T170000
DTEND;TZID=America/New_York:20251016T200000
DTSTAMP:20260423T003415
CREATED:20251001T220051Z
LAST-MODIFIED:20251001T220053Z
UID:10002717-1760634000-1760644800@www.vermontlaw.edu
SUMMARY:Vermont Businesses & Educational Institutions Collaborating for Community
DESCRIPTION:Join Vermont Businesses for Social Responsibility and Vermont Law and Graduate School for an evening of connection and learning\, as we explore the important role Vermont’s higher education institutions are playing—and their untapped potential—as conveners and changemakers\, especially when working alongside businesses to improve local communities. \n\n\n\n\n\nThis discussion will examine how socially responsible businesses and educational institutions are driving transformative local change through public-private partnerships\, community governance\, and climate resilience.  \n\n\n\nPanelists include: \n\n\n\n\nDan Bromberg\, Graduate School Dean\, Vermont Law and Graduate School (Moderator)\n\n\n\nPatricia Coates\, Director\, Leahy Institute for Rural Partnerships and Office of Engagement\, University of Vermont\n\n\n\nChristophe Courchesne\, Associate Dean\, Environmental and Experiential Programs; Director\, Environmental Law Center; Director\, Environmental Advocacy Clinic\, Vermont Law and Graduate School\n\n\n\nPhillip Foy\, General Counsel\, Encore Renewable Energy\n\n\n\nEmiliano Void\, Founder and CEO\, nuwave Equity Corporation\n\n\n\n\nWe’ll dive into the power of local collective action*—led by businesses and educational institutions—to fill critical gaps in government support. Come for the insights—stay for the delicious drinks\, networking\, and shared learning!  \n\n\n\nThis event is a great opportunity to reconnect with colleagues\, build new relationships\, gain fresh inspiration\, and have some fun. Open to all who are interested in building a just\, thriving\, and transformative economy that works for both people and the planet. Please register in advance. If you have questions\, contact Leah Romano at lromano@vermontlaw.edu. \n\n\n\n*Collective action refers to collaborative efforts where groups share knowledge\, resources\, and efforts to achieve a common goal.
URL:https://www.vermontlaw.edu/event/vermont-businesses-educational-institutions-collaborating-for-community
LOCATION:Vermont Law and Graduate School\, 164 Chelsea St.\, South Royalton\, VT\, 05068
CATEGORIES:VLS Events
ATTACH;FMTTYPE=image/png:https://www.vermontlaw.edu/wp-content/uploads/2025/10/Banner.png
END:VEVENT
END:VCALENDAR