BEGIN:VCALENDAR
VERSION:2.0
PRODID:-//Vermont Law and Graduate School - ECPv6.15.20//NONSGML v1.0//EN
CALSCALE:GREGORIAN
METHOD:PUBLISH
X-ORIGINAL-URL:https://www.vermontlaw.edu
X-WR-CALDESC:Events for Vermont Law and Graduate School
REFRESH-INTERVAL;VALUE=DURATION:PT1H
X-Robots-Tag:noindex
X-PUBLISHED-TTL:PT1H
BEGIN:VTIMEZONE
TZID:America/New_York
BEGIN:DAYLIGHT
TZOFFSETFROM:-0500
TZOFFSETTO:-0400
TZNAME:EDT
DTSTART:20240310T070000
END:DAYLIGHT
BEGIN:STANDARD
TZOFFSETFROM:-0400
TZOFFSETTO:-0500
TZNAME:EST
DTSTART:20241103T060000
END:STANDARD
BEGIN:DAYLIGHT
TZOFFSETFROM:-0500
TZOFFSETTO:-0400
TZNAME:EDT
DTSTART:20250309T070000
END:DAYLIGHT
BEGIN:STANDARD
TZOFFSETFROM:-0400
TZOFFSETTO:-0500
TZNAME:EST
DTSTART:20251102T060000
END:STANDARD
BEGIN:DAYLIGHT
TZOFFSETFROM:-0500
TZOFFSETTO:-0400
TZNAME:EDT
DTSTART:20260308T070000
END:DAYLIGHT
BEGIN:STANDARD
TZOFFSETFROM:-0400
TZOFFSETTO:-0500
TZNAME:EST
DTSTART:20261101T060000
END:STANDARD
END:VTIMEZONE
BEGIN:VEVENT
DTSTART;TZID=America/New_York:20251007T173000
DTEND;TZID=America/New_York:20251007T190000
DTSTAMP:20260423T003417
CREATED:20251007T104339Z
LAST-MODIFIED:20251007T104913Z
UID:10002719-1759858200-1759863600@www.vermontlaw.edu
SUMMARY:Inside Appellate Advocacy: Mixer and Info Session
DESCRIPTION:Vermont Law and Graduate School invites alumni and local lawyers to attend its Inside Appellate Advocacy Mixer and Info Session\, which will be held on Tuesday\, October 7\, from 5:30 to 7 p.m. ET. This free event will take place at Costello\, Valente & Gentry\, P.C. (136 Western Ave.\, Brattleboro\, VT). \n\n\n\nEnjoy light refreshments and good company while connecting with Dean Beth McCormack\, faculty\, students\, and other legal professionals\, in addition to learning about future volunteer opportunities. \n\n\n\nThe VLGS Legal Writing Department’s flagship program is its Appellate Advocacy course. As part of that class\, each student is required to write a mock Supreme Court brief and argue in front of a panel of mock judges. Arguments are held across several evenings in mid-November\, and volunteer judges are needed. That’s where you come in! \n\n\n\nJoin us in Brattleboro on October 7 to learn more. Please register in advance by clicking here.
URL:https://www.vermontlaw.edu/event/inside-appellate-advocacy-mixer-and-info-session-2
LOCATION:Costello\, Valente & Gentry\, P.C.\, 136 Western Ave.\, Brattleboro\, Vermont
CATEGORIES:VLS Events
ATTACH;FMTTYPE=image/jpeg:https://www.vermontlaw.edu/wp-content/uploads/2025/10/Appellate-Advocacy-1200x630-1.jpg
END:VEVENT
END:VCALENDAR