BEGIN:VCALENDAR
VERSION:2.0
PRODID:-//Vermont Law and Graduate School - ECPv6.15.20//NONSGML v1.0//EN
CALSCALE:GREGORIAN
METHOD:PUBLISH
X-ORIGINAL-URL:https://www.vermontlaw.edu
X-WR-CALDESC:Events for Vermont Law and Graduate School
REFRESH-INTERVAL;VALUE=DURATION:PT1H
X-Robots-Tag:noindex
X-PUBLISHED-TTL:PT1H
BEGIN:VTIMEZONE
TZID:America/New_York
BEGIN:DAYLIGHT
TZOFFSETFROM:-0500
TZOFFSETTO:-0400
TZNAME:EDT
DTSTART:20240310T070000
END:DAYLIGHT
BEGIN:STANDARD
TZOFFSETFROM:-0400
TZOFFSETTO:-0500
TZNAME:EST
DTSTART:20241103T060000
END:STANDARD
BEGIN:DAYLIGHT
TZOFFSETFROM:-0500
TZOFFSETTO:-0400
TZNAME:EDT
DTSTART:20250309T070000
END:DAYLIGHT
BEGIN:STANDARD
TZOFFSETFROM:-0400
TZOFFSETTO:-0500
TZNAME:EST
DTSTART:20251102T060000
END:STANDARD
BEGIN:DAYLIGHT
TZOFFSETFROM:-0500
TZOFFSETTO:-0400
TZNAME:EDT
DTSTART:20260308T070000
END:DAYLIGHT
BEGIN:STANDARD
TZOFFSETFROM:-0400
TZOFFSETTO:-0500
TZNAME:EST
DTSTART:20261101T060000
END:STANDARD
END:VTIMEZONE
BEGIN:VEVENT
DTSTART;TZID=America/New_York:20250925T130000
DTEND;TZID=America/New_York:20250925T174500
DTSTAMP:20260423T035346
CREATED:20250828T155332Z
LAST-MODIFIED:20250923T203057Z
UID:10002711-1758805200-1758822300@www.vermontlaw.edu
SUMMARY:12th Annual Energy Symposium: Navigating Challenges to the Energy Transition
DESCRIPTION:Vermont Law and Graduate School’s Institute for Energy and the Environment and Alumni in Energy group are excited to host the 12th Annual VLGS Energy Law and Policy Symposium both in person and virtually. Held during Climate Week NYC\, the symposium will bring together VLGS alumni\, partners\, and supporters for a half-day discussion on the challenges facing the energy transition. Doors open at 12 p.m. ET\, and the program will begin at 1 p.m. \n\n\n\nNew York continuing legal education (CLE) credits will be available to symposium attendees. Proceeds from the event will benefit the Kevin B. Jones Fund\, which supports the academic and professional development of Vermont Law and Graduate School energy students. \n\n\n\nLearn more and register by clicking here.
URL:https://www.vermontlaw.edu/event/12th-annual-energy-symposium-navigating-challenges-to-the-energy-transition-2
LOCATION:Bracewell LLP\, 31 W. 52 Street\, Suite 1900\, New York\, New York
ATTACH;FMTTYPE=image/jpeg:https://www.vermontlaw.edu/wp-content/uploads/2025/08/Energy-Symposium-Feat-1200-x-630.jpg
END:VEVENT
END:VCALENDAR