BEGIN:VCALENDAR
VERSION:2.0
PRODID:-//Vermont Law and Graduate School - ECPv6.15.20//NONSGML v1.0//EN
CALSCALE:GREGORIAN
METHOD:PUBLISH
X-WR-CALNAME:Vermont Law and Graduate School
X-ORIGINAL-URL:https://www.vermontlaw.edu
X-WR-CALDESC:Events for Vermont Law and Graduate School
REFRESH-INTERVAL;VALUE=DURATION:PT1H
X-Robots-Tag:noindex
X-PUBLISHED-TTL:PT1H
BEGIN:VTIMEZONE
TZID:America/New_York
BEGIN:DAYLIGHT
TZOFFSETFROM:-0500
TZOFFSETTO:-0400
TZNAME:EDT
DTSTART:20240310T070000
END:DAYLIGHT
BEGIN:STANDARD
TZOFFSETFROM:-0400
TZOFFSETTO:-0500
TZNAME:EST
DTSTART:20241103T060000
END:STANDARD
BEGIN:DAYLIGHT
TZOFFSETFROM:-0500
TZOFFSETTO:-0400
TZNAME:EDT
DTSTART:20250309T070000
END:DAYLIGHT
BEGIN:STANDARD
TZOFFSETFROM:-0400
TZOFFSETTO:-0500
TZNAME:EST
DTSTART:20251102T060000
END:STANDARD
BEGIN:DAYLIGHT
TZOFFSETFROM:-0500
TZOFFSETTO:-0400
TZNAME:EDT
DTSTART:20260308T070000
END:DAYLIGHT
BEGIN:STANDARD
TZOFFSETFROM:-0400
TZOFFSETTO:-0500
TZNAME:EST
DTSTART:20261101T060000
END:STANDARD
END:VTIMEZONE
BEGIN:VEVENT
DTSTART;TZID=America/New_York:20250731T110000
DTEND;TZID=America/New_York:20250731T130000
DTSTAMP:20260423T052015
CREATED:20250731T130115Z
LAST-MODIFIED:20250731T130249Z
UID:10002709-1753959600-1753966800@www.vermontlaw.edu
SUMMARY:Understanding Tariffs and Potential Mitigation Measures
DESCRIPTION:Tariffs have become a very hot topic during 2025. New and threatened measures now impact virtually every company that imports products from abroad. This educational session hosted by the Vermont Small Business Law Center at VLGS will provide an overview of the current tariffs in place\, what exceptions exist\, and potential ways to reduce the impact of tariffs on your business. The session will also discuss so-called “countermeasures” from other countries targeting United States exports. The session will be presented by Darshak Dholakia\, a partner in the International Trade group based in the Washington\, DC\, office of McDermott Will & Emery LLP. \n\n\n\nPlease register in advance by clicking the button below.
URL:https://www.vermontlaw.edu/event/understanding-tariffs-and-potential-mitigation-measures
LOCATION:Virtual
ATTACH;FMTTYPE=image/jpeg:https://www.vermontlaw.edu/wp-content/uploads/2025/07/SBLC-073125-Event-1200x630-1.jpg
END:VEVENT
BEGIN:VEVENT
DTSTART;TZID=America/New_York:20250731T120000
DTEND;TZID=America/New_York:20250731T130000
DTSTAMP:20260423T052015
CREATED:20250619T182716Z
LAST-MODIFIED:20250710T123340Z
UID:10002701-1753963200-1753966800@www.vermontlaw.edu
SUMMARY:Hot Topics | Climate in the Courtroom: Inside the Historic Held v. Montana Youth Climate Trial
DESCRIPTION:Join us online for the Hot Topics in Environmental Law Summer Lecture Series\, brought to you by the Environmental Law Center at VLGS. The series is free and open to the public. In addition to featuring live Q&A with the audience\, each installment is eligible for Vermont Bar Association Continuing Legal Education (CLE) credit. \n\n\n\nThis session will be presented by Dana Drugmand. \n\n\n\nTune into the livestream by clicking the button below.
URL:https://www.vermontlaw.edu/event/hot-topics-2025-16
LOCATION:Virtual
CATEGORIES:Events in South Royalton,Hot Topics,VLS Events
ATTACH;FMTTYPE=image/jpeg:https://www.vermontlaw.edu/wp-content/uploads/2025/05/HotTopics2025_WEB_1200x600px_5.20.25_v1-1.jpg
END:VEVENT
END:VCALENDAR