BEGIN:VCALENDAR
VERSION:2.0
PRODID:-//Vermont Law and Graduate School - ECPv6.15.20//NONSGML v1.0//EN
CALSCALE:GREGORIAN
METHOD:PUBLISH
X-WR-CALNAME:Vermont Law and Graduate School
X-ORIGINAL-URL:https://www.vermontlaw.edu
X-WR-CALDESC:Events for Vermont Law and Graduate School
REFRESH-INTERVAL;VALUE=DURATION:PT1H
X-Robots-Tag:noindex
X-PUBLISHED-TTL:PT1H
BEGIN:VTIMEZONE
TZID:America/New_York
BEGIN:DAYLIGHT
TZOFFSETFROM:-0500
TZOFFSETTO:-0400
TZNAME:EDT
DTSTART:20240310T070000
END:DAYLIGHT
BEGIN:STANDARD
TZOFFSETFROM:-0400
TZOFFSETTO:-0500
TZNAME:EST
DTSTART:20241103T060000
END:STANDARD
BEGIN:DAYLIGHT
TZOFFSETFROM:-0500
TZOFFSETTO:-0400
TZNAME:EDT
DTSTART:20250309T070000
END:DAYLIGHT
BEGIN:STANDARD
TZOFFSETFROM:-0400
TZOFFSETTO:-0500
TZNAME:EST
DTSTART:20251102T060000
END:STANDARD
BEGIN:DAYLIGHT
TZOFFSETFROM:-0500
TZOFFSETTO:-0400
TZNAME:EDT
DTSTART:20260308T070000
END:DAYLIGHT
BEGIN:STANDARD
TZOFFSETFROM:-0400
TZOFFSETTO:-0500
TZNAME:EST
DTSTART:20261101T060000
END:STANDARD
END:VTIMEZONE
BEGIN:VEVENT
DTSTART;TZID=America/New_York:20250702T160000
DTEND;TZID=America/New_York:20250702T180000
DTSTAMP:20260423T065714
CREATED:20250710T124453Z
LAST-MODIFIED:20250710T124454Z
UID:10002706-1751472000-1751479200@www.vermontlaw.edu
SUMMARY:Business Contracts: Basics and In Practice
DESCRIPTION:Who needs contracts\, and why? In this educational webinar\, the Vermont Small Business Law Center at Vermont Law and Graduate School will explain how to use contracts to get “on the same page” as your customers\, clients\, or suppliers\, and how contracts can prevent harm to your business if something goes wrong. We will cover contract basics\, practical practices\, and how to handle disputes. Learn when and why to put things in writing\, how contracts can help you set and manage expectations in your professional relationships\, and what to do if things fall apart. Come ready with your questions as there will be plenty of time for Q&A.
URL:https://www.vermontlaw.edu/event/business-contracts-basics-and-in-practice
LOCATION:Virtual
ATTACH;FMTTYPE=image/jpeg:https://www.vermontlaw.edu/wp-content/uploads/2025/07/7.2_VT-SBLC-Event_SOCIAL-FB-1.jpg
END:VEVENT
END:VCALENDAR