BEGIN:VCALENDAR
VERSION:2.0
PRODID:-//Vermont Law and Graduate School - ECPv6.15.20//NONSGML v1.0//EN
CALSCALE:GREGORIAN
METHOD:PUBLISH
X-WR-CALNAME:Vermont Law and Graduate School
X-ORIGINAL-URL:https://www.vermontlaw.edu
X-WR-CALDESC:Events for Vermont Law and Graduate School
REFRESH-INTERVAL;VALUE=DURATION:PT1H
X-Robots-Tag:noindex
X-PUBLISHED-TTL:PT1H
BEGIN:VTIMEZONE
TZID:America/New_York
BEGIN:DAYLIGHT
TZOFFSETFROM:-0500
TZOFFSETTO:-0400
TZNAME:EDT
DTSTART:20240310T070000
END:DAYLIGHT
BEGIN:STANDARD
TZOFFSETFROM:-0400
TZOFFSETTO:-0500
TZNAME:EST
DTSTART:20241103T060000
END:STANDARD
BEGIN:DAYLIGHT
TZOFFSETFROM:-0500
TZOFFSETTO:-0400
TZNAME:EDT
DTSTART:20250309T070000
END:DAYLIGHT
BEGIN:STANDARD
TZOFFSETFROM:-0400
TZOFFSETTO:-0500
TZNAME:EST
DTSTART:20251102T060000
END:STANDARD
BEGIN:DAYLIGHT
TZOFFSETFROM:-0500
TZOFFSETTO:-0400
TZNAME:EDT
DTSTART:20260308T070000
END:DAYLIGHT
BEGIN:STANDARD
TZOFFSETFROM:-0400
TZOFFSETTO:-0500
TZNAME:EST
DTSTART:20261101T060000
END:STANDARD
END:VTIMEZONE
BEGIN:VEVENT
DTSTART;TZID=America/New_York:20250701T180000
DTEND;TZID=America/New_York:20250701T190000
DTSTAMP:20260423T065708
CREATED:20250618T112509Z
LAST-MODIFIED:20250619T161613Z
UID:10002705-1751392800-1751396400@www.vermontlaw.edu
SUMMARY:Legal Writing Lecture with Dean McCormack
DESCRIPTION:The admissions team invites you to a webinar featuring Dean Beth McCormack\, who will lead an insightful lecture focused on legal writing. \n\n\n\nDean McCormack has been the law school dean since January 2021\, and she is the first woman to hold that position in the school’s history. She initially joined the VLGS faculty in 2011\, teaching Legal Writing I and II\, among a variety of other subjects.
URL:https://www.vermontlaw.edu/event/legal-writing-lecture-with-dean-mccormack
LOCATION:Virtual
CATEGORIES:Admissions Events Webinars,VLS Events
ATTACH;FMTTYPE=image/jpeg:https://www.vermontlaw.edu/wp-content/uploads/2025/06/Beth-OHJD-Students-1200x630-1.jpg
END:VEVENT
END:VCALENDAR