BEGIN:VCALENDAR
VERSION:2.0
PRODID:-//Vermont Law and Graduate School - ECPv6.15.20//NONSGML v1.0//EN
CALSCALE:GREGORIAN
METHOD:PUBLISH
X-WR-CALNAME:Vermont Law and Graduate School
X-ORIGINAL-URL:https://www.vermontlaw.edu
X-WR-CALDESC:Events for Vermont Law and Graduate School
REFRESH-INTERVAL;VALUE=DURATION:PT1H
X-Robots-Tag:noindex
X-PUBLISHED-TTL:PT1H
BEGIN:VTIMEZONE
TZID:America/New_York
BEGIN:DAYLIGHT
TZOFFSETFROM:-0500
TZOFFSETTO:-0400
TZNAME:EDT
DTSTART:20240310T070000
END:DAYLIGHT
BEGIN:STANDARD
TZOFFSETFROM:-0400
TZOFFSETTO:-0500
TZNAME:EST
DTSTART:20241103T060000
END:STANDARD
BEGIN:DAYLIGHT
TZOFFSETFROM:-0500
TZOFFSETTO:-0400
TZNAME:EDT
DTSTART:20250309T070000
END:DAYLIGHT
BEGIN:STANDARD
TZOFFSETFROM:-0400
TZOFFSETTO:-0500
TZNAME:EST
DTSTART:20251102T060000
END:STANDARD
BEGIN:DAYLIGHT
TZOFFSETFROM:-0500
TZOFFSETTO:-0400
TZNAME:EDT
DTSTART:20260308T070000
END:DAYLIGHT
BEGIN:STANDARD
TZOFFSETFROM:-0400
TZOFFSETTO:-0500
TZNAME:EST
DTSTART:20261101T060000
END:STANDARD
END:VTIMEZONE
BEGIN:VEVENT
DTSTART;TZID=America/New_York:20250515T173000
DTEND;TZID=America/New_York:20250515T190000
DTSTAMP:20260423T113435
CREATED:20250514T144632Z
LAST-MODIFIED:20250514T165122Z
UID:10002683-1747330200-1747335600@www.vermontlaw.edu
SUMMARY:Commencement 2025: Cultural Celebration
DESCRIPTION:Join us for a Cultural Celebration to honor graduating members of the Asian Pacific American Law Students Association (APALSA)\, Latin American Law Students Association (LALSA)\, Black Law Students Association (BLSA)\, and Native American Law Students Association (NALSA). \n\n\n\nThis event will take place both in person and virtually. To tune into the livestream\, please click the button below. \n\n\n\nLearn more about all the Commencement festivities by clicking here.
URL:https://www.vermontlaw.edu/event/commencement-2025-cultural-celebration
LOCATION:Debevoise Back Lawn at Vermont Law and Graduate School\, 164 Chelsea Street\, South Royalton\, Vermont
CATEGORIES:Commencement,Livestream Calendar
ATTACH;FMTTYPE=image/jpeg:https://www.vermontlaw.edu/wp-content/uploads/2025/05/Cultural-Celebration-Feat-1200-x-630.jpg
END:VEVENT
END:VCALENDAR